BEGIN:VCALENDAR
VERSION:2.0
PRODID:-//https://dolomitiguides.com///NONSGML kigkonsult.se iCalcreator 2.10.15//
METHOD:PUBLISH
BEGIN:VEVENT
UID:20260423T023316UTC-43966M94s8@https://dolomitiguides.com/
DTSTAMP:20260423T023316Z
DESCRIPTION:\n\n \nArrampicata a Finale Ligure - ItaliaCLICCA QUI E SCOPRI 
 TUTTI I DETTAGLI\n\n\n\n\nIl binomio sole\, mare ed arrampicata ci porterà
  alla scoperta delle più belle vie di arrampicata dipiù tiri e monotiri di
  Finale Ligure.\n\n https://dolomitiguides.com/it/calendario-eventi/Evento
 /52-arrampicata-a-finale-ligure.html
DTSTART:20261001T081608Z
DTEND:20261004T101608Z
LOCATION:Finale Ligure (Via Generale Annibale Arnaldi 5B\, 17024\, Finale L
 igure\, Savona)
SUMMARY:Arrampicata a Finale Ligure 
URL:https://dolomitiguides.com/it/calendario-eventi/Evento/52-arrampicata-a
 -finale-ligure.html
END:VEVENT
END:VCALENDAR
