BEGIN:VCALENDAR
VERSION:2.0
PRODID:-//https://dolomitiguides.com///NONSGML kigkonsult.se iCalcreator 2.10.15//
METHOD:PUBLISH
BEGIN:VEVENT
UID:20260422T110226UTC-11691HZDg0@https://dolomitiguides.com/
DTSTAMP:20260422T110226Z
DESCRIPTION: \nCorso di Alta Montagna evoluto CLICCA QUI E SCOPRI TUTTI I D
 ETTAGLI \n\n\nIl corso è rivolto a tutti coloro che vogliono apprendere le
  tecniche base per muoversi in sicurezza nell’ambiente dell’Alta Montagna.
 Verranno trattati gli argomenti di tecnica base di movimentazione in ghiac
 ciaio con picozza e ramponi\, nodologia base\, metodi di legatura a second
 a del terreno in cui si procede\, recupero base da crepaccio.\n\n https://
 dolomitiguides.com/it/calendario-eventi/Evento/48-corso-alta-montagna-evol
 uto.html
DTSTART:20250705T070000Z
DTEND:20250706T160000Z
LOCATION:Dolomiti Bellunesi (Via Balistiche 11\, 32032\, Feltre\, Belluno)
SUMMARY:Corso Alta Montagna evoluto
URL:https://dolomitiguides.com/it/calendario-eventi/Evento/48-corso-alta-mo
 ntagna-evoluto.html
END:VEVENT
END:VCALENDAR
