BEGIN:VCALENDAR
VERSION:2.0
PRODID:-//https://dolomitiguides.com///NONSGML kigkonsult.se iCalcreator 2.10.15//
METHOD:PUBLISH
BEGIN:VEVENT
UID:20260421T122925UTC-5848jbbKgv@https://dolomitiguides.com/
DTSTAMP:20260421T122925Z
DESCRIPTION:Komani Trekking - AlbaniaUn trekking che ci porterà a scoprire 
 un angolo selvaggio dell'Albania. Saremo immersi nel selvaggio più selvagg
 io sopra il verde lago di Koman.CLICCA E SCOPRI TUTTI I DETTAGLI https://d
 olomitiguides.com/it/calendario-eventi/Evento/353-komani-trekking-albania.
 html
DTSTART:20260606T160806Z
DTEND:20260614T180806Z
LOCATION:Albania ()
SUMMARY:Komani Trekking Albania
URL:https://dolomitiguides.com/it/calendario-eventi/Evento/353-komani-trekk
 ing-albania.html
END:VEVENT
END:VCALENDAR
