BEGIN:VCALENDAR
VERSION:2.0
PRODID:-//https://dolomitiguides.com///NONSGML kigkonsult.se iCalcreator 2.10.15//
METHOD:PUBLISH
BEGIN:VEVENT
UID:20260421T192430UTC-1285M0zV8R@https://dolomitiguides.com/
DTSTAMP:20260421T192430Z
DESCRIPTION:Corso di Scialpinismo - Splitboard baseCLICCA QUI E SCORPI TUTT
 I I DETTAGLI \nIl corso è rivolto a tutti coloro che vogliono apprendere l
 e tecniche e le nozioni basilari per una frequentazione autonoma dell’ambi
 ente invernale non controllato. \nDate: lezioni teoriche serali 5-19 febbr
 aio.Lezioni pratiche 7-14-21-28 febbraio. È possibile richiedere il corso 
 anche in date diverse da quelle in programma.\n \n  https://dolomitiguides
 .com/it/calendario-eventi/Evento/344-corso-scialpinismo-splitboard-base.ht
 ml
DTSTART:20260207T200035Z
DTEND:20260207T220035Z
LOCATION:Dolomiti Bellunesi (Via Balistiche 11\, 32032\, Feltre\, Belluno)
SUMMARY:Corso Scialpinismo/splitboard base
URL:https://dolomitiguides.com/it/calendario-eventi/Evento/344-corso-scialp
 inismo-splitboard-base.html
END:VEVENT
END:VCALENDAR
