BEGIN:VCALENDAR
VERSION:2.0
PRODID:-//https://dolomitiguides.com///NONSGML kigkonsult.se iCalcreator 2.10.15//
METHOD:PUBLISH
BEGIN:VEVENT
UID:20260424T184509UTC-2128i2hvJs@https://dolomitiguides.com/
DTSTAMP:20260424T184509Z
DESCRIPTION:Corso Vie NormaliCLICCA QUI E SCOPRI TUTTI I DETTAGLI Un percor
 so formativo pensato per coloro che vogliono acquisire le basi necessarie 
 ad intraprendere con sicurezza escursioni con tratti esposti o vie normali
  non troppo impegnative (secondo/terzo grado). https://dolomitiguides.com/
 it/calendario-eventi/Evento/315-corso-vie-normali.html
DTSTART:20250607T080000Z
DTEND:20250607T150000Z
LOCATION:Dolomiti Bellunesi (Via Balistiche 11\, 32032\, Feltre\, Belluno)
SUMMARY:Corso Vie Normali
URL:https://dolomitiguides.com/it/calendario-eventi/Evento/315-corso-vie-no
 rmali.html
END:VEVENT
END:VCALENDAR
