BEGIN:VCALENDAR
VERSION:2.0
PRODID:-//https://dolomitiguides.com///NONSGML kigkonsult.se iCalcreator 2.10.15//
METHOD:PUBLISH
BEGIN:VEVENT
UID:20260423T111413UTC-4473mLPouD@https://dolomitiguides.com/
DTSTAMP:20260423T111413Z
DESCRIPTION: Salita alla Cima del Monte Pelmo m 3168 - DolomitiCLICCA QUI E
  SCORPI TUTTI I DETTAGLI \nSpettacolare salita in Dolomiti.La Cima del Mon
 te Pelmo è un'altra salita da annoverare tra le più belle e spettacolari d
 ell'intero arco alpino.\n \n \n\n \n  https://dolomitiguides.com/it/calend
 ario-eventi/Evento/270-scialpinismo-cima-del-monte-pelmo-m-3168-dolomiti.h
 tml
DTSTART:20250405T073026Z
DTEND:20250406T153026Z
LOCATION:Dolomiti Bellunesi (Via Balistiche 11\, 32032\, Feltre\, Belluno)
SUMMARY:Scialpinismo Cima del Monte Pelmo m 3168 - Dolomiti
URL:https://dolomitiguides.com/it/calendario-eventi/Evento/270-scialpinismo
 -cima-del-monte-pelmo-m-3168-dolomiti.html
END:VEVENT
END:VCALENDAR
