BEGIN:VCALENDAR
VERSION:2.0
PRODID:-//https://dolomitiguides.com///NONSGML kigkonsult.se iCalcreator 2.10.15//
METHOD:PUBLISH
BEGIN:VEVENT
UID:20260423T060940UTC-8490bldvOP@https://dolomitiguides.com/
DTSTAMP:20260423T060940Z
DESCRIPTION: \nCorso di Scialpinismo - Splitboard baseCLICCA QUI E SCORPI T
 UTTI I DETTAGLI \nIl corso è rivolto a tutti coloro che vogliono apprender
 e le tecniche e le nozioni basilari per una frequentazione autonoma dell’a
 mbiente invernale non controllato. Date: lezioni teoriche serali 4-18 febb
 raio.Lezioni pratiche 8-15-22-29 febbraio. È possibile richiedere il corso
  anche in date diverse da quelle in programma.\n \n  https://dolomitiguide
 s.com/it/calendario-eventi/Evento/263-corso-scialpinismo-splitboard-base-i
 nfrasettimanale-lunedì.html
DTSTART:20260119T203000Z
DTEND:20260119T220000Z
LOCATION:Dolomiti Bellunesi (Via Balistiche 11\, 32032\, Feltre\, Belluno)
SUMMARY:Corso Scialpinismo/Splitboard base infrasettimanale (lunedì)
URL:https://dolomitiguides.com/it/calendario-eventi/Evento/263-corso-scialp
 inismo-splitboard-base-infrasettimanale-lunedì.html
END:VEVENT
END:VCALENDAR
