BEGIN:VCALENDAR
VERSION:2.0
PRODID:-//https://dolomitiguides.com///NONSGML kigkonsult.se iCalcreator 2.10.15//
METHOD:PUBLISH
BEGIN:VEVENT
UID:20260421T050200UTC-6292DL3W7p@https://dolomitiguides.com/
DTSTAMP:20260421T050200Z
DESCRIPTION:\n\n \nEscursione con le ciaspole al tramonto in Monte Grappa\n
 Giro ad anello sui luoghi della Grande Guerra. N.B: Oltre alle date citate
  per piccoli o grandi gruppi è possibile prenotare l'uscita in data ed ora
  a voi più consona. CLICCA QUI E SCOPRI TUTTI I DETTAGLI\n\n\n\n\n\n\n htt
 ps://dolomitiguides.com/it/calendario-eventi/Evento/233-escursione-con-le-
 ciaspole-al-tramonto-in-monte-grappa.html
DTSTART:20241228T160025Z
DTEND:20241228T193025Z
LOCATION:Dolomiti Bellunesi (Via Balistiche 11\, 32032\, Feltre\, Belluno)
SUMMARY:Escursione con le ciaspole al tramonto in Monte Grappa
URL:https://dolomitiguides.com/it/calendario-eventi/Evento/233-escursione-c
 on-le-ciaspole-al-tramonto-in-monte-grappa.html
END:VEVENT
END:VCALENDAR
