BEGIN:VCALENDAR
VERSION:2.0
PRODID:-//https://dolomitiguides.com///NONSGML kigkonsult.se iCalcreator 2.10.15//
METHOD:PUBLISH
BEGIN:VEVENT
UID:20260425T162624UTC-31622kMRL5@https://dolomitiguides.com/
DTSTAMP:20260425T162624Z
DESCRIPTION: \nOpen Day Arrampicata su Ghiaccio CLICCA QUI E SCORPI TUTTI I
  DETTAGLI Una giornata aperta a chiunque voglia provare per la prima volta
  a salire sulle cascate di ghiaccio.Proprio così\, chiunque può partecipar
 e\, basta essere un pò sportivi e avere voglia di mettersi in gioco...\n 
 \n  https://dolomitiguides.com/it/calendario-eventi/Evento/223-open-day-ar
 rampicata-su-ghiaccio.html
DTSTART:20260111T083000Z
DTEND:20260111T140000Z
LOCATION:Lagorai ()
SUMMARY:Open Day Arrampicata su Ghiaccio
URL:https://dolomitiguides.com/it/calendario-eventi/Evento/223-open-day-arr
 ampicata-su-ghiaccio.html
END:VEVENT
END:VCALENDAR
