BEGIN:VCALENDAR
VERSION:2.0
PRODID:-//https://dolomitiguides.com///NONSGML kigkonsult.se iCalcreator 2.10.15//
METHOD:PUBLISH
BEGIN:VEVENT
UID:20260422T100733UTC-42790h5cRH@https://dolomitiguides.com/
DTSTAMP:20260422T100733Z
DESCRIPTION: \nCima della Pala del Rifugio Via Castiglioni\, Pale di San Ma
 rtino.CLICCA QUI E SCOPRI TUTTI I DETTAGLILa via sale il lungo Spigolo Nor
 d-Ovest della Pala del Rifugio. Ottima roccia\, arrampicata varia su diedr
 i\, camini\, placche e fessure fanno di questo itinerario una vera e propr
 ia salita alpinistica. La discesa come in tutte le Pale di San Martino a i
 l suo particolare perché :-)\n  https://dolomitiguides.com/it/calendario-e
 venti/Evento/183-arrampicata-spigolo-castiglioni-alla-pala-del-rifugio\,-p
 ale-di-san-martino.html
DTSTART:20250607T070000Z
DTEND:20250607T170000Z
LOCATION:Pale di San Martino ()
SUMMARY:Arrampicata Spigolo Castiglioni alla Pala del Rifugio\, Pale di San
  Martino
URL:https://dolomitiguides.com/it/calendario-eventi/Evento/183-arrampicata-
 spigolo-castiglioni-alla-pala-del-rifugio,-pale-di-san-martino.html
END:VEVENT
END:VCALENDAR
