BEGIN:VCALENDAR
VERSION:2.0
PRODID:-//https://dolomitiguides.com///NONSGML kigkonsult.se iCalcreator 2.10.15//
METHOD:PUBLISH
BEGIN:VEVENT
UID:20260423T161259UTC-4090v27zm4@https://dolomitiguides.com/
DTSTAMP:20260423T161259Z
DESCRIPTION:Via Ferrata Bolver Lugli al Cimon della Pala\, Pale di San Mart
 inoCLICCA QUI E SCOPRI TUTTI I DETTAGLI \nSul gruppo delle Pale di San Mar
 tino esistono numerose ferrate e sentieri attrezzati.La via ferrata Bolver
  Lugli al Cimon de la Pala è forse quella che attrae più persone di tutte 
 le altre.Forse per il suo comodo accesso\, forse perché sale verso la cima
  più conosciuta delle Pale di San Martino.È possibile richiedere la salita
  anche in giornate diverse da quelle proposte.\n https://dolomitiguides.co
 m/it/calendario-eventi/Evento/177-via-ferrata-bolver-lugli-al-cimon-della-
 pala.html
DTSTART:20220715T070000Z
DTEND:20220715T163000Z
LOCATION:Pale di San Martino ()
SUMMARY:Via Ferrata Bolver Lugli al Cimon della Pala
URL:https://dolomitiguides.com/it/calendario-eventi/Evento/177-via-ferrata-
 bolver-lugli-al-cimon-della-pala.html
END:VEVENT
END:VCALENDAR
