BEGIN:VCALENDAR
VERSION:2.0
PRODID:-//https://dolomitiguides.com///NONSGML kigkonsult.se iCalcreator 2.10.15//
METHOD:PUBLISH
BEGIN:VEVENT
UID:20260422T123543UTC-78147bWXGz@https://dolomitiguides.com/
DTSTAMP:20260422T123543Z
DESCRIPTION: \nCorso di Alta Montagna baseCLICCA QUI E SCOPRI TUTTI I DETTA
 GLI\n\n\nIl corso è rivolto a tutti coloro che vogliono apprendere le tecn
 iche base per muoversi in sicurezza nell’ambiente dell’Alta Montagna.Verra
 nno trattati gli argomenti di tecnica base di movimentazione in ghiacciaio
  con picozza e ramponi\, nodologia base\, metodi di legatura a seconda del
  terreno in cui si procede\, recupero base da crepaccio.\n\n https://dolom
 itiguides.com/it/calendario-eventi/Evento/17-corso-alta-montagna-base.html
DTSTART:20250621T070000Z
DTEND:20250622T160000Z
LOCATION:Dolomiti Bellunesi (Via Balistiche 11\, 32032\, Feltre\, Belluno)
SUMMARY:Corso Alta Montagna base
URL:https://dolomitiguides.com/it/calendario-eventi/Evento/17-corso-alta-mo
 ntagna-base.html
END:VEVENT
END:VCALENDAR
