BEGIN:VCALENDAR
VERSION:2.0
PRODID:-//https://dolomitiguides.com///NONSGML kigkonsult.se iCalcreator 2.10.15//
METHOD:PUBLISH
BEGIN:VEVENT
UID:20260422T165635UTC-1846GaLx4s@https://dolomitiguides.com/
DTSTAMP:20260422T165635Z
DESCRIPTION:Attraversata Monte Vioz m 3645\, Palon De La Mare m 3703\, Ceve
 dale m 3769CLICCA QUI E SCOPRI TUTTI I DETTAGLI Una stupenda attraversata 
 che ci porta a percorrere una parte della famosa attraversata delle 13 cim
 e. Una cavalcata sopra i 3000 metri che vi lascerà a bocca aperta per il p
 anorama a 360° che si gode lungo tutto il percorso. https://dolomitiguides
 .com/it/calendario-eventi/Evento/164-attraversata-vioz-cevedale.html
DTSTART:20240622T080000Z
DTEND:20240623T160000Z
LOCATION:Monte Cevedale ()
SUMMARY:Attraversata Vioz-Cevedale
URL:https://dolomitiguides.com/it/calendario-eventi/Evento/164-attraversata
 -vioz-cevedale.html
END:VEVENT
END:VCALENDAR
