BEGIN:VCALENDAR
VERSION:2.0
PRODID:-//https://dolomitiguides.com///NONSGML kigkonsult.se iCalcreator 2.10.15//
METHOD:PUBLISH
BEGIN:VEVENT
UID:20260421T025648UTC-35483VX02V@https://dolomitiguides.com/
DTSTAMP:20260421T025648Z
DESCRIPTION:Corso Arrampicata su Ghiaccio CLICCA QUI E SCOPRI TUTTI I DETTA
 GLIIl corso è rivolto a tutti coloro che vogliono apprendere le tecniche e
  le nozioni basilari della progressione in piolet traction.Le date delle l
 ezioni sono 13-20-27 gennaio.È possibile prenotare il corso anche in date 
 diverse da quelle in programma. https://dolomitiguides.com/it/calendario-e
 venti/Evento/161-corso-arrampicata-su-ghiaccio.html
DTSTART:20260117T070000Z
DTEND:20260117T143000Z
LOCATION:Dolomiti Bellunesi (Via Balistiche 11\, 32032\, Feltre\, Belluno)
SUMMARY:Corso Arrampicata su Ghiaccio
URL:https://dolomitiguides.com/it/calendario-eventi/Evento/161-corso-arramp
 icata-su-ghiaccio.html
END:VEVENT
END:VCALENDAR
