BEGIN:VCALENDAR
VERSION:2.0
PRODID:-//https://dolomitiguides.com///NONSGML kigkonsult.se iCalcreator 2.10.15//
METHOD:PUBLISH
BEGIN:VEVENT
UID:20260421T092239UTC-5806JCbtnj@https://dolomitiguides.com/
DTSTAMP:20260421T092239Z
DESCRIPTION:Corso di Nivologia base \nCLICCA QU E SCOPRI TUTTI I DETTAGLIIl
  corso di nivologia è rivolto a tutti coloro che si muovono in ambiente in
 nevato non controllato. Tale corso vi darà le nozioni basilari sul pericol
 o valanghe e lettura del manto nevoso in ambiente.Lezione teorica giovedì 
 sera pratica in ambiente domenica.È possibile prenotare il corso anche in 
 date diverse da quelle in programma.\n  https://dolomitiguides.com/it/cale
 ndario-eventi/Evento/157-corso-nivologia-base.html
DTSTART:20260201T203000Z
DTEND:20260201T220000Z
LOCATION:Dolomiti Bellunesi (Via Balistiche 11\, 32032\, Feltre\, Belluno)
SUMMARY:Corso Nivologia base
URL:https://dolomitiguides.com/it/calendario-eventi/Evento/157-corso-nivolo
 gia-base.html
END:VEVENT
END:VCALENDAR
