BEGIN:VCALENDAR
VERSION:2.0
PRODID:-//https://dolomitiguides.com///NONSGML kigkonsult.se iCalcreator 2.10.15//
METHOD:PUBLISH
BEGIN:VEVENT
UID:20260423T102602UTC-1206Joec5u@https://dolomitiguides.com/
DTSTAMP:20260423T102602Z
DESCRIPTION:\n\n \nArrampicata a Paklenica – CroaziaCLICCA QUI E SCOPRI TUT
 TI I DETTAGLI\n\n\n\n\nIl binomio sole\, mare ed arrampicata ci porterà al
 la scoperta delle più belle vie di arrampicata dipiù tiri di Paklenica Cro
 azia.Il Parco nazionale di Paklenica è uno dei parchi più attraenti dal pu
 nto di vista scientifico e turistico di tutto il Mediterraneo nord-orienta
 le. Al suo interno numerose pareti di calcare carsico molto compatto e all
 e volte anche tagliente. \n \n\n https://dolomitiguides.com/it/calendario-
 eventi/Evento/13-arrampicata-a-paklenica-croazia.html
DTSTART:20261028T070000Z
DTEND:20261101T180000Z
LOCATION:Paklenica ()
SUMMARY:Arrampicata a Paklenica Croazia
URL:https://dolomitiguides.com/it/calendario-eventi/Evento/13-arrampicata-a
 -paklenica-croazia.html
END:VEVENT
END:VCALENDAR
