BEGIN:VCALENDAR
VERSION:2.0
PRODID:-//https://dolomitiguides.com///NONSGML kigkonsult.se iCalcreator 2.10.15//
METHOD:PUBLISH
BEGIN:VEVENT
UID:20260421T125922UTC-9442TVuijF@https://dolomitiguides.com/
DTSTAMP:20260421T125922Z
DESCRIPTION:Corso Arrampicata AlpinismoCLICCA QUI E SCOPRI TUTTI I DETTAGLI
 Il corso è rivolto a coloro che vogliono essere indipendenti sulla progres
 sione in ambiente alpinistico. https://dolomitiguides.com/en/calendario-ev
 enti/event/37-corso-arrampicata-vie-alpinistiche.html
DTSTART:20260613T070000Z
DTEND:20260614T153000Z
LOCATION:Dolomiti Bellunesi (Via Balistiche 11\, 32032\, Feltre\, Belluno)
SUMMARY:Corso Arrampicata Vie Alpinistiche
URL:https://dolomitiguides.com/en/calendario-eventi/event/37-corso-arrampic
 ata-vie-alpinistiche.html
END:VEVENT
END:VCALENDAR
