BEGIN:VCALENDAR
VERSION:2.0
PRODID:-//https://dolomitiguides.com///NONSGML kigkonsult.se iCalcreator 2.10.15//
METHOD:PUBLISH
BEGIN:VEVENT
UID:20260420T171834UTC-7211RtGjxG@https://dolomitiguides.com/
DTSTAMP:20260420T171834Z
DESCRIPTION:Trekking in Karpathos GreciaCLICCA QUI E SCOPRI TUTTI I DETTAGL
 IQuesto bellissimo trekking mediterraneo\, dopo una breve visita alla capi
 tale\, ci catapulta sulla parte piu selvaggia e aspra dell’isola\, quella 
 interna\, attraversando altipiani\, creste\, villaggi rurali\, città antic
 he\, bellissime spiagge\, e partendo da sud arriveremo al suo estremo nord
 \, ovvero sull’isola disabitata di Saria\, godendo durante il percorso\, d
 ell’ottimo cibo e dell’ospitalità Greca.\n  https://dolomitiguides.com/en/
 calendario-eventi/event/3-trekking-in-karpathos-grecia.html
DTSTART:20250924T070000Z
DTEND:20251001T180000Z
LOCATION:Karphatos ()
SUMMARY:Trekking in Karpathos Grecia
URL:https://dolomitiguides.com/en/calendario-eventi/event/3-trekking-in-kar
 pathos-grecia.html
END:VEVENT
END:VCALENDAR
