BEGIN:VCALENDAR
VERSION:2.0
PRODID:-//https://dolomitiguides.com///NONSGML kigkonsult.se iCalcreator 2.10.15//
METHOD:PUBLISH
BEGIN:VEVENT
UID:20260422T182310UTC-5665H9o4xA@https://dolomitiguides.com/
DTSTAMP:20260422T182310Z
DESCRIPTION: \nTecnica di sci fuoripista Passo Brocon - LagoraiCLICCA QUI E
  SCORPI TUTTI I DETTAGLI \nUna giornata di scialpinismo e freeride dedicat
 a alla tecnica di sci fuoripista. \n\n \n  https://dolomitiguides.com/en/c
 alendario-eventi/event/265-tecnica-di-sci-fuoripista-passo-brocon-lagorai.
 html
DTSTART:20260125T083027Z
DTEND:20260125T153027Z
LOCATION:Lagorai ()
SUMMARY:Tecnica di sci fuoripista Passo Brocon - Lagorai
URL:https://dolomitiguides.com/en/calendario-eventi/event/265-tecnica-di-sc
 i-fuoripista-passo-brocon-lagorai.html
END:VEVENT
END:VCALENDAR
