BEGIN:VCALENDAR
VERSION:2.0
PRODID:-//https://dolomitiguides.com///NONSGML kigkonsult.se iCalcreator 2.10.15//
METHOD:PUBLISH
BEGIN:VEVENT
UID:20260423T051009UTC-5949jvnnot@https://dolomitiguides.com/
DTSTAMP:20260423T051009Z
DESCRIPTION: \nCorso di Scialpinismo - Splitboard baseCLICCA QUI E SCORPI T
 UTTI I DETTAGLI \nIl corso è rivolto a tutti coloro che vogliono apprender
 e le tecniche e le nozioni basilari per una frequentazione autonoma dell’a
 mbiente invernale non controllato. Date: lezioni teoriche serali 15-29 gen
 naio.Lezioni pratiche 19-26 gennaio\, 2-9 febbraio. È possibile richiedere
  il corso anche in date diverse da quelle in programma.\n \n  https://dolo
 mitiguides.com/en/calendario-eventi/event/263-corso-scialpinismo-splitboar
 d-base-infrasettimanale.html
DTSTART:20260119T203000Z
DTEND:20260119T220000Z
LOCATION:Dolomiti Bellunesi (Via Balistiche 11\, 32032\, Feltre\, Belluno)
SUMMARY:Corso Scialpinismo/Splitboard base infrasettimanale
URL:https://dolomitiguides.com/en/calendario-eventi/event/263-corso-scialpi
 nismo-splitboard-base-infrasettimanale.html
END:VEVENT
END:VCALENDAR
