BEGIN:VCALENDAR
VERSION:2.0
PRODID:-//https://dolomitiguides.com///NONSGML kigkonsult.se iCalcreator 2.10.15//
METHOD:PUBLISH
BEGIN:VEVENT
UID:20260426T025056UTC-9942Ue8mB2@https://dolomitiguides.com/
DTSTAMP:20260426T025056Z
DESCRIPTION: \nScialpinismo salita al Monte Sief - DolomitiCLICCA QUI E SCO
 RPI TUTTI I DETTAGLI \n Il Sief è una scialpinistica facile e piacevole ne
 l cuore delle Dolomiti. Saliremo dal Castello di Andraz  da dove prima per
  bosco e poi per ampi pendii percorrendo infine cresta che conduce in vett
 a.\n \n\n \n  https://dolomitiguides.com/en/calendario-eventi/event/251-sc
 ialpinismo-monte-sief-dolomiti.html
DTSTART:20251208T083026Z
DTEND:20251208T143026Z
LOCATION:Dolomiti Bellunesi (Via Balistiche 11\, 32032\, Feltre\, Belluno)
SUMMARY:Scialpinismo Monte Sief - Dolomiti
URL:https://dolomitiguides.com/en/calendario-eventi/event/251-scialpinismo-
 monte-sief-dolomiti.html
END:VEVENT
END:VCALENDAR
