BEGIN:VCALENDAR
VERSION:2.0
PRODID:-//https://dolomitiguides.com///NONSGML kigkonsult.se iCalcreator 2.10.15//
METHOD:PUBLISH
BEGIN:VEVENT
UID:20260420T091739UTC-614075wr9o@https://dolomitiguides.com/
DTSTAMP:20260420T091739Z
DESCRIPTION:\n\n \nEscursione con le Ciaspole al chiaro di luna sul Monte G
 rappaBelissimo giro ad anello sui luoghi della Grande Guerra.N.B: Oltre al
 le date citate per piccoli o grandi gruppi è possibile prenotare l'uscita 
 in data ed ora a voi più consona. CLICCA QUI E SCOPRI TUTTI I DETTAGLI\n\n
 \n\n\n\n\n https://dolomitiguides.com/en/calendario-eventi/event/230-escur
 sione-con-le-ciaspole-al-chiaro-di-luna-in-monte-grappa.html
DTSTART:20260131T160000Z
DTEND:20260131T190000Z
LOCATION:Dolomiti Bellunesi (Via Balistiche 11\, 32032\, Feltre\, Belluno)
SUMMARY:Escursione con le ciaspole al chiaro di luna in Monte Grappa
URL:https://dolomitiguides.com/en/calendario-eventi/event/230-escursione-co
 n-le-ciaspole-al-chiaro-di-luna-in-monte-grappa.html
END:VEVENT
END:VCALENDAR
