BEGIN:VCALENDAR
VERSION:2.0
PRODID:-//https://dolomitiguides.com///NONSGML kigkonsult.se iCalcreator 2.10.15//
METHOD:PUBLISH
BEGIN:VEVENT
UID:20260424T183930UTC-6990F0ZpCE@https://dolomitiguides.com/
DTSTAMP:20260424T183930Z
DESCRIPTION: \nOpen Day Scialpinismo CLICCA QUI E SCORPI TUTTI I DETTAGLI U
 na giornata aperta a chiunque voglia provare per la prima volta il piacere
  dello scialpinismo.Proprio così\, chiunque può partecipare\, basta avere 
 una base di sci in pista e la voglia di mettersi in gioco...\n \n  https:/
 /dolomitiguides.com/en/calendario-eventi/event/222-open-day-scialpinismo.h
 tml
DTSTART:20260110T083000Z
DTEND:20260110T140000Z
LOCATION:Dolomiti Bellunesi (Via Balistiche 11\, 32032\, Feltre\, Belluno)
SUMMARY:Open Day Scialpinismo 
URL:https://dolomitiguides.com/en/calendario-eventi/event/222-open-day-scia
 lpinismo.html
END:VEVENT
END:VCALENDAR
