BEGIN:VCALENDAR
VERSION:2.0
PRODID:-//https://dolomitiguides.com///NONSGML kigkonsult.se iCalcreator 2.10.15//
METHOD:PUBLISH
BEGIN:VEVENT
UID:20260423T070458UTC-4789VhZRmI@https://dolomitiguides.com/
DTSTAMP:20260423T070458Z
DESCRIPTION: \nCorso Autosoccorso in ValangaCLICCA QUI E SCOPRI TUTTI I DET
 TAGLI Il corso di autosoccorso in valanga è rivolto a tutti coloro che si 
 muovono in ambiente innevato non controllato. Qualsiasi sia l’attività sci
 alpinismo\, free-ride\, ciaspole\, cascate di ghiaccio\, quando ci si muov
 e al di fuori delle piste battute in percorsi facili o difficili dovremmo 
 avere sempre con noi gli appositi aparecchi ARTVA(aparecchio ricerca travo
 lti in valanga) abbinati alla pala e sonda.Lezione teorica giovedi sera e 
 pratica in ambiente il weekend successivo alla lezione.È possibile prenota
 re il corso anche in date diverese da quelle in programma. https://dolomit
 iguides.com/en/calendario-eventi/event/160-corso-autosoccorso-in-valanga.h
 tml
DTSTART:20260118T203000Z
DTEND:20260118T220000Z
LOCATION:Dolomiti Bellunesi (Via Balistiche 11\, 32032\, Feltre\, Belluno)
SUMMARY:Corso Autosoccorso in Valanga
URL:https://dolomitiguides.com/en/calendario-eventi/event/160-corso-autosoc
 corso-in-valanga.html
END:VEVENT
END:VCALENDAR
