BEGIN:VCALENDAR
VERSION:2.0
PRODID:-//https://dolomitiguides.com///NONSGML kigkonsult.se iCalcreator 2.10.15//
METHOD:PUBLISH
BEGIN:VEVENT
UID:20260423T063947UTC-9721mBVIu2@https://dolomitiguides.com/
DTSTAMP:20260423T063947Z
DESCRIPTION: \nCorso di Scialpinismo - Splitboard baseCLICCA QUI E SCORPI T
 UTTI I DETTAGLI \nIl corso è rivolto a tutti coloro che vogliono apprender
 e le tecniche e le nozioni basilari per una frequentazione autonoma dell’a
 mbiente invernale non controllato. Date: lezioni teoriche serali 15-29 gen
 naio.Lezioni pratiche 18-25 gennaio\, 1-8 febbraio. È possibile richiedere
  il corso anche in date diverse da quelle in programma.\n \n \n  https://d
 olomitiguides.com/en/calendario-eventi/event/155-corso-scialpinismo-splitb
 oard-base.html
DTSTART:20260118T203000Z
DTEND:20260118T220000Z
LOCATION:Dolomiti Bellunesi (Via Balistiche 11\, 32032\, Feltre\, Belluno)
SUMMARY:Corso Scialpinismo/Splitboard base
URL:https://dolomitiguides.com/en/calendario-eventi/event/155-corso-scialpi
 nismo-splitboard-base.html
END:VEVENT
END:VCALENDAR
